Workbook

Sheet Feuil2

Sheet NEEL 52 TARIF-PRICE LIST
A1: NEEL 52 Tarif AVRIL 2023 - NEEL-TRIMARANS NEEL 52 Price list APRIL 2023 - NEEL-TRIMARANS | C1: REF
B2: COTATION / BON DE COMMANDE QUOTATION / ORDER FORM
A4: Client / Customer : Adresse / Address :
A7: Email :
A8: Tel / Phone :
A9: NEEL 52 TARIF € HT | B9: TARIF € HT
A10: Moteur Yanmar 110 CV Sail Drive │ 1 jeu batteries services 24 V gel total = 495 Ah │ 1 batterie Optima démarrage 12 V de 50 Ah │ Mât aluminium anodisé │ Drisse de génois sur lashing │ Réfrigérateur et conservateur │ Eau chaude et eau froide sous pression │ Chauffe-eau │ Plaque de cuisson gaz 3 feux et four à gaz avec grill │ Baille à mouillage I Trampoline en 2 parties I Davier inox intégré sur delphinière │ Echelle de bain │ Construction composite sandwich infusion │ Gel coat de coque gris clair RAL 7047 │ Menuiserie ALPI Chêne clair │ Vaigrage mural : Silvertex MACADEMIA │ Vaigrage plafond : Silvertex blanc │ Cockloon® SUNBRELLA │ Sol Bolon® PLAIN SAND Yanmar 110 HP engine Sail Drive │ 1 set of gel service batteries 24 V = 495 Ah │ 1 engine battery 50 Ah Optima 12 V │ Anodized aluminium mast │ Forsail halyards with lashing │ Fridge and freezer │ Pressurized hot and cold fresh water │ Water heater │ 3-burners propane stove and oven with grill │ Anchor locker │ Bow trampolines │ Transome ladder │ GRP sandwich infusion │ Hull gel coat light grey RAL 7047 │ Wodwork in ALPI light oak│Inside wall lining Silvertex : MACADEMIA │ Inside ceiling lining : Silvertex White │ Cockloon® SUNBRELLA │ Flooring in BOLON® PLAIN SAND
A11: ≡ DOIT ÊTRE DEFINI A LA COMMANDE ≡ TO BE DEFINED AT ORDER | C11: au plus tard | E11: =B235 -> 0
A12: ■ OPTIONS DEVANT ÊTRE COMMANDÉES AU PLUS TARD 9 MOIS AVANT LA DATE PREVISIONNELLE DE LIVRAISON ■ OPTIONS TO BE DEFINED 9 MONTHS BEFORE ESTIMATED DATE OF DELIVERY | C12: au plus tard | E12: =B224-275 -> 45414
A13: ≡ TRI 52 001 | B13: SEA DECK VIEW : Version 4 cabines | 3 salles de bain Pont principal avec espaces de vie (carré/table à cartes/cuisine) Pointes avant non aménagées SEA DECK VIEW : 4 cabin version | 3 bathrooms Main deck with living areas (salon/chart table/kitchen) Unfinished forepeaks | C13: 999000 | D13: 0 | E13: =D13*C13 -> 0
A14: ≡ TRI 52 002 | B14: SEA DECK VIEW : Version 6 cabines | 3 salles de bain Pont principal avec espaces de vie (carré/table à cartes/cuisine) SEA DECK VIEW : 6 cabin version with 3 bathrooms Main deck with living areas ( salon/chart table/kitchen) | C14: 1010000 | D14: 0 | E14: =D14*C14 -> 0
A15: ≡ TRI 52 003 | B15: SKY DECK VIEW : Version 4 cabines | 3 salles de bain Pont principal avec espaces de vie (carré/table à cartes/cuisine) et Master cabine. Flotteur tribord dédié Master cabine, Dressing/Bureau/SDE WC/Douche/Buanderie. Coque centrale : 2 cab 1 SDB. Flotteur bâbord 1 cab + SDE WC/Douche. Pointe avant bâbord non aménagée SKY DECK VIEW : 4 cabin version | 3 bathrooms Main deck with living areas (saloon/chart table/kitchen) and Master cabin. Starboard float dedicated to Master cabin, Dressing room/Office/WC/shower/laundry. Central hull : 2 cab 1 bathroom. Port float 1 cab + SDE WC/shower. Port forepeak not fitted out | C15: 1010000 | D15: 0 | E15: =D15*C15 -> 0
A16: ≡ TRI 52 004 | B16: SKY DECK VIEW : Version 5 cabines | 3 salles de bain Pont principal avec espaces de vie (carré/table à cartes/cuisine) et Master cabine. Flotteur tribord dédié Master Cabine, Dressing/Bureau/SDE WC/Douche/Buanderie. Coque centrale : 2 cab 1 SDB Flotteur bâbord : 2 cab 1 SDB SKY DECK VIEW : Version 5 cabins | 3 bathrooms Main deck with living areas (saloon/chart table/kitchen) and Master cabin. Starboard float dedicated to Master Cabin, Dressing Room/Office/WC/Shower/Laundry. Central hull : 2 cab 1 bathroom Port float : 2 cab 1 bathroom | C16: 1016000 | D16: 0 | E16: =D16*C16 -> 0
A18: AMENAGEMENTS COMPLEMENTAIRES | ADDITIONNAL ACCOMODATIONS
A19: ≡ TRI 52 005 | B19: SEA DECK VIEW (Version 4 cabines-ref TRI 52 001) : Pointe AV bâbord aménagée avec lit double et accès par panneau de pont SEA DECK VIEW (4 cabins version-ref TRI 52 001): Port bow peak with double bed, deck access | C19: 3500 | D19: 0 | E19: =D19*C19 -> 0
A20: ≡ TRI 52 006 | B20: SEA DECK VIEW (Version 4 cabines-ref TRI 52 001) : Pointe AV tribord aménagée avec lit double et accès par panneau de pont SEA DECK VIEW (4 cabins version-ref TRI 52 001): Starboard bow peak with double bed, deck access | C20: 3500 | D20: 0 | E20: =D20*C20 -> 0
A21: ≡ TRI 52 007 | B21: SKY DECK VIEW (Version 4 cabines-ref TRI 52 003) : Pointe AV bâbord aménagée avec lit double et accès par panneau de pont SKY DECK VIEW (4 cabins version-ref TRI 52 003): : Port bow peak with double bed, deck access | C21: 3500 | D21: 0 | E21: =D21*C21 -> 0
A22: ≡ TRI 52 008 | B22: SEA DECK VIEW et SKY DECK VIEW (Toutes versions) : Cabine simple arrière tribord avec WC électrique, douche et vasque SEA DECK VIEW et SKY DECK VIEW (All versions): Aft starboard skipper cabin with electric toilet, wash basin & shower | C22: 7500 | D22: 0 | E22: =D22*C22 -> 0
A23: ≡ TRI 52 009 | B23: SEA DECK VIEW et SKY DECK VIEW (Toutes versions) : Cabine simple arrière bâbord avec WC électrique, douche et vasque SEA DECK VIEW et SKY DECK VIEW (All versions): Aft port skipper cabin with electric toilet, wash basin & shower | C23: 7500 | D23: 0 | E23: =D23*C23 -> 0
A24: ≡ TRI 52 012 | B24: SEA DECK VIEW et SKY DECK VIEW (Toutes versions) : Cabine coque centrale avant : lit double à la place des deux lits supperposés livrés en standard SEA DECK VIEW et SKY DECK VIEW (All versions): Front central hull cabin: double bed instead of the two bunk beds supplied as standard | C24: 950 | D24: 0 | E24: =D24*C24 -> 0
A25: ≡ TRI 52 010 | B25: Pack "ESSENTIEL" Pack "ESSENTIAL" | C25: 53500 | D25: 0 | E25: =D25*C25 -> 0
A26: ≡ TRI 52 011 | B26: Pack "PREMIUM" Pack "PREMIUM" | C26: 72500 | D26: 0 | E26: =D26*C26 -> 0
A28: DESCRIPTION DES PACKS | PACKS SPECIFICATION | C28: ESSENTIAL | E28: PREMIUM
A29: ≡ PACK 52 001 | B29: Grand voile Dacron à corne lattée sur chariots à billes Top square full batten main sail Dacron with ball bearings car | C29: x | E29: x
A30: ≡ PACK 52 002 | B30: Génois Dacron sur enrouleur avec bande UV Dacron genoa on furler + UV stripe | C30: x | E30: x
A31: ≡ PACK 52 003 | B31: Trinquette Dacron sur emmagasineur avec bande UV Dacron self tacking jib on furler + UV stripe | C31: x | E31: x
A32: ≡ PACK 52 004 | B32: Lazy bag Lazy bag | C32: x | E32: x
A33: ≡ PACK 52 005 | B33: Réseau 230 V 11 prises PC quai 32 A et ligne de quai 25 m 230 V installation including 11 outlets PC 32 A and 25 m shore power line | C33: x | E33: x
A34: ≡ PACK 52 006 | B34: Mass combi ultra x 2 - par unité : 24 V / 3 500 W / 100 A Combi x 2 - per unit 24 V / 3 500 W / 100 A | C34: x | E34: x
A35: ≡ PACK 52 007 | B35: Guindeau électrique 24 V puissance 1 700 W Electric windlass 24 V power 1 700 W | C35: x | E35: x
A36: ≡ PACK 52 008 | B36: Rideaux dans les cabines Cabin curtains | C36: x | E36: x
A37: ≡ PACK 52 009 | B37: Panneaux de ventilation sur le roof Roof ventilation hatches | C37: x | E37: x
A38: ≡ PACK 52 010 | B38: WC électriques eau douce Electrical fresh water toilets | C38: x | E38: x
A39: ≡ PACK 52 011 | B39: Réservoirs eaux noires avec nables d'extraction sur le pont Holding tanks with pump-out fitting on deck | C39: x | E39: x
A40: ≡ PACK 52 012 | B40: Echelle de bain et douchette eau chaude / froide sur jupe flotteur bâbord Transom ladder & transom shower hot/cold water on portside | C40: x | E40: x
... A46: ≡ PACK 52 018 | B46: Kit mouillage (ancre KOBRA 25 kg + chaîne + câblot) Anchoring kit (25 kg KOBRA anchor + chain + rope) | C46: x | E46: x
A47: ≡ PACK 52 019 | B47: Propulseur d'étrave 24 V avec batteries et chargeur dédiés Bow thruster 24 V with dedicated battery and charger | E47: x
A48: ≡ PACK 52 020 | B48: Protection d'étrave en inox Stainless steel bow protection | E48: x
A49: ≡ PACK 52 021 | B49: Winch électrique pour drisses de GV, de trinquette et de spi Powered winch instead of the manual one for mainsail, staysail & spinaker halyards | E49: x
A50: ≡ PACK 52 022 | B50: Sellerie sun deck SUNBRELLA Sun deck cushions SUNBRELLA | E50: x
...

Sheet FICHE DE FABRICATION NEEL 52
A1: FICHE DE FABRICATION | C1: NEEL 52 n° XX | G1: Fiche de fab en vigueur au 30/03/2023
A2: Date de création: | C2: Date de début fabrication composite: | G2: Ref BC Client : O52-03 20221220
A3: Date de modification : | C3: Date de livraison Client | E3: ='[1]NEEL 52 PRICE LIST'!B225 -> 46054
C4: COMMERCIAL
A7: VERSION D'AMENAGEMENT SELECTIONNEE
A8: ≡ TRI 52 001 | B8: ='NEEL 52 TARIF-PRICE LIST'!B13 -> SEA DECK VIEW : Version 4 cabines | 3 salles de bain Pont principal avec espaces de vie (carré/table à cartes/cuisine) Pointes avant non aménagées SEA DECK VIEW : 4 cabin version | 3 bathrooms Main deck with living areas (salon/chart table/kitchen) Unfinished forepeaks | C8: =IF('NEEL 52 TARIF-PRICE LIST'!D13=1,"X","")
A9: ≡ TRI 52 002 | B9: ='NEEL 52 TARIF-PRICE LIST'!B14 -> SEA DECK VIEW : Version 6 cabines | 3 salles de bain Pont principal avec espaces de vie (carré/table à cartes/cuisine) SEA DECK VIEW : 6 cabin version with 3 bathrooms Main deck with living areas ( salon/chart table/kitchen) | C9: =IF('NEEL 52 TARIF-PRICE LIST'!D14=1,"X","")
A10: ≡ TRI 52 003 | B10: ='NEEL 52 TARIF-PRICE LIST'!B15 -> SKY DECK VIEW : Version 4 cabines | 3 salles de bain Pont principal avec espaces de vie (carré/table à cartes/cuisine) et Master cabine. Flotteur tribord dédié Master cabine, Dressing/Bureau/SDE WC/Douche/Buanderie. Coque centrale : 2 cab 1 SDB. Flotteur bâbord 1 cab + SDE WC/Douche. Pointe avant bâbord non aménagée SKY DECK VIEW : 4 cabin version | 3 bathrooms Main deck with living areas (saloon/chart table/kitchen) and Master cabin. Starboard float dedicated to Master cabin, Dressing room/Office/WC/shower/laundry. Central hull : 2 cab 1 bathroom. Port float 1 cab + SDE WC/shower. Port forepeak not fitted out | C10: =IF('NEEL 52 TARIF-PRICE LIST'!D15=1,"X","")
A11: ≡ TRI 52 004 | B11: ='NEEL 52 TARIF-PRICE LIST'!B16 -> SKY DECK VIEW : Version 5 cabines | 3 salles de bain Pont principal avec espaces de vie (carré/table à cartes/cuisine) et Master cabine. Flotteur tribord dédié Master Cabine, Dressing/Bureau/SDE WC/Douche/Buanderie. Coque centrale : 2 cab 1 SDB Flotteur bâbord : 2 cab 1 SDB SKY DECK VIEW : Version 5 cabins | 3 bathrooms Main deck with living areas (saloon/chart table/kitchen) and Master cabin. Starboard float dedicated to Master Cabin, Dressing Room/Office/WC/Shower/Laundry. Central hull : 2 cab 1 bathroom Port float : 2 cab 1 bathroom | C11: =IF('NEEL 52 TARIF-PRICE LIST'!D16=1,"X","")
A13: MOTORISATION | C13: YANMAR 110cv Sail Drive
A14: GREEMENT (standard ou performance) pour le mat alu, si une option de peinture est prise, elle sera indiquée plus loin sur le document | C14: =IF(AND('NEEL 52 TARIF-PRICE LIST'!D179=0,'NEEL 52 TARIF-PRICE LIST'!D180=0),"Mat et bome alumumiun, GV à corne, génois sur enrouleur, trinquette sur emmaganiseur (voiles en dacron), gréement dormant en cables","") -> Mat et bome alumumiun, GV à corne, génois sur enrouleur, trinquette sur emmaganiseur (voiles en dacron), gréement dormant en cables
C15: =IF('NEEL 52 TARIF-PRICE LIST'!D179=1,"mât carbone & bome alu BLANC, greement dormant textile, GV, Genois et Trinquette sur emmagasineur en HYDRANET","")
C16: =IF('NEEL 52 TARIF-PRICE LIST'!D180=1,"mât carbone & bome alu NOIR, greement dormant textile, GV, Genois et Trinquette sur emmagasineur en HYDRANET","")
A17: TENSION ET FREQUENCE DU BATEAU | C17: =IF('NEEL 52 TARIF-PRICE LIST'!D122=1,"110V et 60 Hz","230V et 50 Hz") -> 230V et 50 Hz
A19: RAPPEL COLORIS ET MATIERES STANDARDS | C19: Gel coat | D19: Gris clair RAL 7047
C20: Mobilier | D20: ALPI chène clair
C21: Vaigrages | D21: Silvertex MACADAMIA
C22: Plafond | D22: Silvertex ICE
C23: Rideaux | D23: Standard NEEL
C24: Sol | D24: Bolon PLAIN SAND
A25: COLORIS ET MATIERES SELECTIONNEES PAR LE CLIENT | C25: Sellerie | D25: {=_xlfn.SWITCH('NEEL 52 TARIF-PRICE LIST'!D213,"a","Tornado","b","Whisper","c","Coconut","d","Zinc")} -> Coconut
C26: Lazy bag et bandes anti UV | D26: =IF('NEEL 52 TARIF-PRICE LIST'!D217="a","Rouge NEEL","Silver 5085") -> Silver 5085
C27: Spi | D27: =IF('NEEL 52 TARIF-PRICE LIST'!D218="a","Rouge NEEL","Blanc") -> Blanc
C28: Batyline | D28: =IF('NEEL 52 TARIF-PRICE LIST'!D219="a","Gris","blanc") -> blanc
A30: AMENAGEMENTS COMPLEMENTAIRES
A31: ='NEEL 52 TARIF-PRICE LIST'!A19 -> ≡ TRI 52 005 | B31: ='NEEL 52 TARIF-PRICE LIST'!B19 -> SEA DECK VIEW (Version 4 cabines-ref TRI 52 001) : Pointe AV bâbord aménagée avec lit double et accès par panneau de pont SEA DECK VIEW (4 cabins version-ref TRI 52 001): Port bow peak with double bed, deck access | C31: =IF('NEEL 52 TARIF-PRICE LIST'!D19=1,"X","")
A32: ='NEEL 52 TARIF-PRICE LIST'!A20 -> ≡ TRI 52 006 | B32: ='NEEL 52 TARIF-PRICE LIST'!B20 -> SEA DECK VIEW (Version 4 cabines-ref TRI 52 001) : Pointe AV tribord aménagée avec lit double et accès par panneau de pont SEA DECK VIEW (4 cabins version-ref TRI 52 001): Starboard bow peak with double bed, deck access | C32: =IF('NEEL 52 TARIF-PRICE LIST'!D20=1,"X","")
A33: ='NEEL 52 TARIF-PRICE LIST'!A21 -> ≡ TRI 52 007 | B33: ='NEEL 52 TARIF-PRICE LIST'!B21 -> SKY DECK VIEW (Version 4 cabines-ref TRI 52 003) : Pointe AV bâbord aménagée avec lit double et accès par panneau de pont SKY DECK VIEW (4 cabins version-ref TRI 52 003): : Port bow peak with double bed, deck access | C33: =IF('NEEL 52 TARIF-PRICE LIST'!D21=1,"X","")
A34: ='NEEL 52 TARIF-PRICE LIST'!A22 -> ≡ TRI 52 008 | B34: ='NEEL 52 TARIF-PRICE LIST'!B22 -> SEA DECK VIEW et SKY DECK VIEW (Toutes versions) : Cabine simple arrière tribord avec WC électrique, douche et vasque SEA DECK VIEW et SKY DECK VIEW (All versions): Aft starboard skipper cabin with electric toilet, wash basin & shower | C34: =IF('NEEL 52 TARIF-PRICE LIST'!D22=1,"X","")
A35: ='NEEL 52 TARIF-PRICE LIST'!A23 -> ≡ TRI 52 009 | B35: ='NEEL 52 TARIF-PRICE LIST'!B23 -> SEA DECK VIEW et SKY DECK VIEW (Toutes versions) : Cabine simple arrière bâbord avec WC électrique, douche et vasque SEA DECK VIEW et SKY DECK VIEW (All versions): Aft port skipper cabin with electric toilet, wash basin & shower | C35: =IF('NEEL 52 TARIF-PRICE LIST'!D23=1,"X","")
A36: ='NEEL 52 TARIF-PRICE LIST'!A24 -> ≡ TRI 52 012 | B36: ='NEEL 52 TARIF-PRICE LIST'!B24 -> SEA DECK VIEW et SKY DECK VIEW (Toutes versions) : Cabine coque centrale avant : lit double à la place des deux lits supperposés livrés en standard SEA DECK VIEW et SKY DECK VIEW (All versions): Front central hull cabin: double bed instead of the two bunk beds supplied as standard | C36: =IF('NEEL 52 TARIF-PRICE LIST'!D24=1,"X","")
A37: ='NEEL 52 TARIF-PRICE LIST'!A25 -> ≡ TRI 52 010 | B37: ='NEEL 52 TARIF-PRICE LIST'!B25 -> Pack "ESSENTIEL" Pack "ESSENTIAL" | C37: =IF('NEEL 52 TARIF-PRICE LIST'!D25=1,"X","")
A38: ='NEEL 52 TARIF-PRICE LIST'!A26 -> ≡ TRI 52 011 | B38: ='NEEL 52 TARIF-PRICE LIST'!B26 -> Pack "PREMIUM" Pack "PREMIUM" | C38: =IF('NEEL 52 TARIF-PRICE LIST'!D26=1,"X","")
A40: PACK SELECTIONNE | D40: =IF('NEEL 52 TARIF-PRICE LIST'!D26=1,"PREMIUM","ESSENTIEL") -> ESSENTIEL
A41: Description des packs | D41: ESSENTIEL | E41: PREMIUM
A42: ='NEEL 52 TARIF-PRICE LIST'!A29 -> ≡ PACK 52 001 | B42: ='NEEL 52 TARIF-PRICE LIST'!B29 -> Grand voile Dacron à corne lattée sur chariots à billes Top square full batten main sail Dacron with ball bearings car | D42: X | E42: X
A43: ='NEEL 52 TARIF-PRICE LIST'!A30 -> ≡ PACK 52 002 | B43: ='NEEL 52 TARIF-PRICE LIST'!B30 -> Génois Dacron sur enrouleur avec bande UV Dacron genoa on furler + UV stripe | D43: X | E43: X
A44: ='NEEL 52 TARIF-PRICE LIST'!A31 -> ≡ PACK 52 003 | B44: ='NEEL 52 TARIF-PRICE LIST'!B31 -> Trinquette Dacron sur emmagasineur avec bande UV Dacron self tacking jib on furler + UV stripe | D44: X | E44: X
A45: ='NEEL 52 TARIF-PRICE LIST'!A32 -> ≡ PACK 52 004 | B45: ='NEEL 52 TARIF-PRICE LIST'!B32 -> Lazy bag Lazy bag | D45: X | E45: X
A46: ='NEEL 52 TARIF-PRICE LIST'!A33 -> ≡ PACK 52 005 | B46: ='NEEL 52 TARIF-PRICE LIST'!B33 -> Réseau 230 V 11 prises PC quai 32 A et ligne de quai 25 m 230 V installation including 11 outlets PC 32 A and 25 m shore power line | D46: X | E46: X
...
